BEGIN:VCALENDAR
PRODID:-//AT Content Types//AT Event//EN
VERSION:1.0
BEGIN:VEVENT
DTSTART:20240425T103000Z
DTEND:20240425T120000Z
DCREATED:20240408T145039Z
UID:ATEvent-c6c0643beebbec2abca5360550d90810
SEQUENCE:0
LAST-MODIFIED:20240409T065255Z
SUMMARY:Formation TICE \: découverte et prise en main de l'outil Genially
DESCRIPTION:Une session pour découvrir Genially\, un service en ligne
  permettant la création de contenus visuels interactifs.
LOCATION:A définir
PRIORITY:3
TRANSP:0
END:VEVENT
END:VCALENDAR
