BEGIN:VCALENDAR
PRODID:-//AT Content Types//AT Event//EN
VERSION:1.0
BEGIN:VEVENT
DTSTART:20240419T103000Z
DTEND:20240419T120000Z
DCREATED:20240328T161840Z
UID:ATEvent-26e2b02177d5ec1848e7365878b5f7dd
SEQUENCE:0
LAST-MODIFIED:20240329T153619Z
SUMMARY:Formation TICE \: découverte et prise en main de l'outil Genially
DESCRIPTION:La Cellule TICE vous propose deux sessions pour découvrir
  Genially et créer votre premier contenu (19 & 25 Avril). Inscrivez-v
 ous à la date de votre choix
LOCATION:A définir
PRIORITY:3
TRANSP:0
END:VEVENT
END:VCALENDAR
