BEGIN:VCALENDAR
PRODID:-//AT Content Types//AT Event//EN
VERSION:1.0
BEGIN:VEVENT
DTSTART:20240410T113000Z
DTEND:20240415T140000Z
DCREATED:20240130T104733Z
UID:ATEvent-2a72b822baea4affcbf51d92b559b399
SEQUENCE:0
LAST-MODIFIED:20240322T115332Z
SUMMARY:Formation TICE \: la vidéo pédagogique dans tous ses états
DESCRIPTION:Comment réaliser et intégrer des capsules vidéos dans m
 on dispositif pédagogique sans contraintes ? Deux séances au choix \
 : Nos recommandations académiques & produire à l'aide d'un logiciel 
 de montage
LOCATION:à définir
PRIORITY:3
TRANSP:0
END:VEVENT
END:VCALENDAR
