BEGIN:VCALENDAR
PRODID:-//AT Content Types//AT Event//EN
VERSION:1.0
BEGIN:VEVENT
DTSTART:20240530T070000Z
DTEND:20240530T100000Z
DCREATED:20240130T160759Z
UID:ATEvent-b8c7602949d2c734ce17df6c6a816907
SEQUENCE:0
LAST-MODIFIED:20240329T153649Z
SUMMARY:Formation TICE \: exploitez les forces de WebCampus pour optimiser vos espaces de cours
DESCRIPTION:Venez découvrir durant notre atelier toutes les astuces d
 e l'équipe WebCampus pour faire de votre espaces de cours un environn
 ement accueillant et dynamique
LOCATION:Lieu à définir
PRIORITY:3
TRANSP:0
END:VEVENT
END:VCALENDAR
