BEGIN:VCALENDAR
PRODID:-//AT Content Types//AT Event//EN
VERSION:1.0
BEGIN:VEVENT
DTSTART:20240221T173000Z
DTEND:20240221T203000Z
DCREATED:20240119T162638Z
UID:ATEvent-76f72e18ceea483a43ba9f2de84f2c1e
SEQUENCE:0
LAST-MODIFIED:20240215T135037Z
SUMMARY:Semaine de l'inclusion - Conférence et impro \: étudier en situation de handicap
DESCRIPTION:Vous êtes invités à un événement unique en son genre\
 , combinant conférence et improvisation autour du thème de l’inclu
 sion des étudiant.e.s en situation de handicap.
LOCATION:Amphithéâtre Pedro Arrupe - P02
PRIORITY:3
TRANSP:0
END:VEVENT
END:VCALENDAR
