BEGIN:VCALENDAR
PRODID:-//AT Content Types//AT Event//EN
VERSION:1.0
BEGIN:VEVENT
DTSTART:20211130T184500Z
DTEND:20211130T204500Z
DCREATED:20210907T122748Z
UID:ATEvent-06d04630959d472b01921b760bc592e8
SEQUENCE:0
LAST-MODIFIED:20211122T142048Z
SUMMARY:Grande Conférence Namuroise #3 - Matthieu Tordeur
DESCRIPTION:La vie est une aventure audacieuse ou elle n'est rien
LOCATION:Amphithéâtre Vauban
PRIORITY:3
TRANSP:0
END:VEVENT
END:VCALENDAR
