BEGIN:VCALENDAR
PRODID:-//AT Content Types//AT Event//EN
VERSION:1.0
BEGIN:VEVENT
DTSTART:20220517T174500Z
DTEND:20220517T194500Z
DCREATED:20210907T123143Z
UID:ATEvent-83c5374d41c66572e9e47bf54f3f7a1c
SEQUENCE:0
LAST-MODIFIED:20220505T163159Z
SUMMARY:Grande Conférence Namuroise #4 - Marius Gilbert - Nouvelle date !
DESCRIPTION:SARS-COV-2 \: les enseignements d'une crise sanitaire iné
 dite
LOCATION:Amphithéâtre Vauban
PRIORITY:3
TRANSP:0
END:VEVENT
END:VCALENDAR
