BEGIN:VCALENDAR
PRODID:-//AT Content Types//AT Event//EN
VERSION:1.0
BEGIN:VEVENT
DTSTART:20211026T174500Z
DTEND:20211026T194500Z
DCREATED:20210907T121148Z
UID:ATEvent-7523129243d162d7392db2829fc4bf13
SEQUENCE:0
LAST-MODIFIED:20211025T093459Z
SUMMARY:#2 - Grande Conférence Namuroise - Barbara Stiegler
DESCRIPTION:Santé et Démocratie
LOCATION:Amphithéâtre Vauban
PRIORITY:3
TRANSP:0
END:VEVENT
END:VCALENDAR
