BEGIN:VCALENDAR
PRODID:-//AT Content Types//AT Event//EN
VERSION:1.0
BEGIN:VEVENT
DTSTART:20210921T174500Z
DTEND:20210921T194500Z
DCREATED:20210907T120607Z
UID:ATEvent-08b369627fbc3c5537dce9515f6b8632
SEQUENCE:0
LAST-MODIFIED:20210907T142510Z
SUMMARY:#1 - Grande Conférence Namuroise - Carola Rackete
DESCRIPTION:It's time to act
LOCATION:Auditoire Pedro Arrupe
PRIORITY:3
TRANSP:0
END:VEVENT
END:VCALENDAR
