BEGIN:VCALENDAR
PRODID:-//AT Content Types//AT Event//EN
VERSION:1.0
BEGIN:VEVENT
DTSTART:20220426T174500Z
DTEND:20220426T194500Z
DCREATED:20210907T123939Z
UID:ATEvent-d4853e29b064b88e21672839066c30f3
SEQUENCE:0
LAST-MODIFIED:20220422T132635Z
SUMMARY:Grande Conférence Namuroise #6 - Nathalie Grandjean
DESCRIPTION:Nous sommes la nature qui se défend
LOCATION:Amphithéâtre Vauban
PRIORITY:3
TRANSP:0
END:VEVENT
END:VCALENDAR
