BEGIN:VCALENDAR
PRODID:-//AT Content Types//AT Event//EN
VERSION:1.0
BEGIN:VEVENT
DTSTART:20200312T115000Z
DTEND:20200312T125000Z
DCREATED:20200304T090433Z
UID:ATEvent-b3d47dff93c81c7bb495a70fcbd2cb05
SEQUENCE:0
LAST-MODIFIED:20200305T101137Z
SUMMARY:Midi de la FUCID \: Israël face au droit international
DESCRIPTION:Marianne Blume est administratrice de l’Association belg
 o-palestinienne. Elle a vécu 15 ans dans la bande de Gaza et retourne
  dans la région plusieurs fois par an. Elle viendra livrer son analys
 e sur l’évolution de la situation en Israël et en Palestine\, au r
 egard des droits fondamentaux et du droit international.
LOCATION:Au sous-sol du Centre social (face à l'Arsenal)\, rue Bruno\, 7
PRIORITY:3
TRANSP:0
END:VEVENT
END:VCALENDAR
