BEGIN:VCALENDAR
PRODID:-//AT Content Types//AT Event//EN
VERSION:1.0
BEGIN:VEVENT
DTSTART:20200305T115000Z
DTEND:20200305T125000Z
DCREATED:20200226T111456Z
UID:ATEvent-7edcce2b19055c6042b7f9adcd0e4b29
SEQUENCE:0
LAST-MODIFIED:20200227T091957Z
SUMMARY:Midi de la FUCID \: Récits de voyage à la frontière franco-italienne
DESCRIPTION:Un mois après leur retour\, 12 étudiant·e·s namurois·
 e·s viennent discuter de leurs apprentissages et leur ressenti\, suit
 e à leur voyage à la frontière entre la France et l’Italie. Un mi
 di pour témoigner et partager les récits recueillis auprès des pers
 onnes et collectifs engagés avec les personnes migrantes.
LOCATION:Au sous-sol du Centre social (face à l'Arsenal)\, rue Bruno\, 7
PRIORITY:3
TRANSP:0
END:VEVENT
END:VCALENDAR
