BEGIN:VCALENDAR
PRODID:-//AT Content Types//AT Event//EN
VERSION:1.0
BEGIN:VEVENT
DTSTART:20200227T115000Z
DTEND:20200227T125000Z
DCREATED:20200219T140152Z
UID:ATEvent-7323076a8a9f0dba6847ce280efa025c
SEQUENCE:0
LAST-MODIFIED:20200220T095627Z
SUMMARY:Midi de la FUCID - La grève féministe \: enjeux et luttes autour du travail des femmes
DESCRIPTION:Le Collecti.e.f 8 maars a rassemblé en 2019 des femmes de
  tous horizons pour l’organisation de la première grève des femmes
  en Belgique. Tout en faisant le lien avec des mouvements sud-américa
 ins\, espagnols ou encore italiens\, Charlotte Casier reviendra sur la
  situation des femmes en Belgique\, ainsi que sur les enjeux et les ob
 jectifs de la grève du 8 et 9 mars 2020.
LOCATION:Au sous-sol du Centre social (face à l'Arsenal)\, rue Bruno\, 7
PRIORITY:3
TRANSP:0
END:VEVENT
END:VCALENDAR
