BEGIN:VCALENDAR
PRODID:-//AT Content Types//AT Event//EN
VERSION:1.0
BEGIN:VEVENT
DTSTART:20200220T115000Z
DTEND:20200220T125000Z
DCREATED:20200212T091754Z
UID:ATEvent-1822e6942f5f0580d7d7117fab7e677d
SEQUENCE:0
LAST-MODIFIED:20200213T103158Z
SUMMARY:Midi de la FUCID \: L'industrie de la mode\, un modèle d'exploitation
DESCRIPTION:Les filières industrialisées de production de vêtements
  sont\, depuis plusieurs décennies\, le terrain de nombreuses violati
 ons des droits humains \: salaires de misère\, harcèlement\, temps d
 e travail excessif\, insécurité sur le lieu de travail\, violences l
 iées au genre\, répression syndicale\, etc.
LOCATION:Au sous-sol du Centre social (face à l'Arsenal)\, rue Bruno\, 7
PRIORITY:3
TRANSP:0
END:VEVENT
END:VCALENDAR
