BEGIN:VCALENDAR
PRODID:-//AT Content Types//AT Event//EN
VERSION:1.0
BEGIN:VEVENT
DTSTART:20200217T160000Z
DTEND:20200217T180000Z
DCREATED:20200205T115250Z
UID:ATEvent-869b85bae4b69f868259f25eeb171ef0
SEQUENCE:0
LAST-MODIFIED:20200206T164058Z
SUMMARY:Café-philo \: Collapsologie
DESCRIPTION:Envie de te réapproprier des savoirs\, de confronter ton 
 expérience aux réflexions de penseur·e·s\, chercheur·e·s ou acte
 ur·rice·s de terrain ? Viens au café philo ! Un moment convivial po
 ur débattre\, lundi 17 février\, de la collapsologie !
LOCATION:Quai 22\, rue du Séminaire\, 22
PRIORITY:3
TRANSP:0
END:VEVENT
END:VCALENDAR
