BEGIN:VCALENDAR
PRODID:-//AT Content Types//AT Event//EN
VERSION:1.0
BEGIN:VEVENT
DTSTART:20200213T115000Z
DTEND:20200213T125000Z
DCREATED:20200205T114433Z
UID:ATEvent-202f92471bfc8a14fe34ebe0c4025e41
SEQUENCE:0
LAST-MODIFIED:20200206T164037Z
SUMMARY:Midi de la FUCID \: Mondialisation et national-populisme
DESCRIPTION:C’est le titre du dernier ouvrage d’Arnaud Zacharie\, 
 le Secrétaire général du CNCD-11.11.11. Contre le néolibéralisme 
 effréné et le repli sur soi\, l’auteur propose des alternatives po
 ur une société ouverte\, juste et durable.
LOCATION:Au sous-sol du Centre social (face à l'Arsenal)\, rue Bruno\, 7
PRIORITY:3
TRANSP:0
END:VEVENT
END:VCALENDAR
