BEGIN:VCALENDAR
PRODID:-//AT Content Types//AT Event//EN
VERSION:1.0
BEGIN:VEVENT
DTSTART:20191210T230000Z
DTEND:20200227T230000Z
DCREATED:20191125T131103Z
UID:ATEvent-5f9616d25811be34d5ce1030b35717a2
SEQUENCE:0
LAST-MODIFIED:20191202T104809Z
SUMMARY:Exposition "L’œuf ou la tuile ? Père Dominique Pire. Prix Nobel de la Paix 1958" - BUMP (11 décembre 2019 - 28 février 2020)
DESCRIPTION:Exposition consacrée au parcours du Père Dominique Pire\
 , Prix Nobel de la Paix 1958 et fondateur des Iles de Paix\, de l'Univ
 ersité de Paix\, de l'Action Développement-Parrainages Mondiaux\, de
  l'Aide aux Personnes Déplacées et du Service d'Entraide Familial.
LOCATION:BUMP
PRIORITY:3
TRANSP:0
END:VEVENT
END:VCALENDAR
