BEGIN:VCALENDAR
PRODID:-//AT Content Types//AT Event//EN
VERSION:1.0
BEGIN:VEVENT
DTSTART:20191210T080000Z
DTEND:20191210T160000Z
DCREATED:20191125T123419Z
UID:ATEvent-62f75417da248b689cc88676f05ead3f
SEQUENCE:0
LAST-MODIFIED:20191125T164605Z
SUMMARY:Le Père Pire et l'Aide aux Personnes Déplacées (années 50)\: Passé/présent
DESCRIPTION:Une journée d'étude qui réunira historiens\, chercheurs
  d'horizons divers et acteurs de terrain autour de la problématique d
 e l'aide aux personnes déplacées et de l'action du Père Pire dans l
 es années 1950.
LOCATION:Quai 22
PRIORITY:3
TRANSP:0
END:VEVENT
END:VCALENDAR
