BEGIN:VCALENDAR
PRODID:-//AT Content Types//AT Event//EN
VERSION:1.0
BEGIN:VEVENT
DTSTART:20191212T190000Z
DTEND:20191212T210000Z
DCREATED:20191121T150733Z
UID:ATEvent-ee39c6caac975f5e953a89b291702554
SEQUENCE:0
LAST-MODIFIED:20191210T113253Z
SUMMARY:REPORTÉ - Concert au profit du Télévie
DESCRIPTION:Le concert programmé ce 12 décembre est reporté au mois
  de mars 2020 dans le cadre d'une action plus large autour de la réco
 lte de fonds pour le Télévie.
LOCATION:Amphithéâtre Vauban
PRIORITY:3
TRANSP:0
END:VEVENT
END:VCALENDAR
