BEGIN:VCALENDAR
PRODID:-//AT Content Types//AT Event//EN
VERSION:1.0
BEGIN:VEVENT
DTSTART:20191128T115000Z
DTEND:20191128T125000Z
DCREATED:20191120T140356Z
UID:ATEvent-e2541b52ca40ceba929f20909e624830
SEQUENCE:0
LAST-MODIFIED:20191121T090000Z
SUMMARY:Midi de la FUCID | Racisme "anti-blancs"\: un concept à bannir ?
DESCRIPTION:Certains groupes agitent parfois la peur du racisme "anti-
 blancs". Qu'en est-il ? En quoi ce concept est-il problématique ?
LOCATION:Au sous-sol du Centre social (face à l'Arsenal)\, rue Bruno\, 7
PRIORITY:3
TRANSP:0
END:VEVENT
END:VCALENDAR
