BEGIN:VCALENDAR
PRODID:-//AT Content Types//AT Event//EN
VERSION:1.0
BEGIN:VEVENT
DTSTART:20191121T115000Z
DTEND:20191121T125000Z
DCREATED:20191113T151529Z
UID:ATEvent-0e20eeb94af961efae3c296d271e430c
SEQUENCE:0
LAST-MODIFIED:20191114T115540Z
SUMMARY:Midi de la FUCID | Asile
DESCRIPTION:Quand les smartphones racontent des vies
LOCATION:Au sous-sol du Centre social (face à l'Arsenal)\, rue Bruno\, 7
PRIORITY:3
TRANSP:0
END:VEVENT
END:VCALENDAR
