BEGIN:VCALENDAR
PRODID:-//AT Content Types//AT Event//EN
VERSION:1.0
BEGIN:VEVENT
DTSTART:20191120T170000Z
DTEND:20191120T193000Z
DCREATED:20191113T145702Z
UID:ATEvent-83351eea53342f7b59bef48c8cdd0f62
SEQUENCE:0
LAST-MODIFIED:20191114T115447Z
SUMMARY:Conférence "C'est quoi une frontière ?"
DESCRIPTION:Dans le cadre du cycle de sensibilisation sur les migratio
 ns\, qui comporte trois soirées informatives et participatives pour d
 écouvrir la thématique des migrations sous trois angles différents 
 \: avant\, pendant et après le départ.
LOCATION:Quai 22\, rue du Séminaire\, 22
PRIORITY:3
TRANSP:0
END:VEVENT
END:VCALENDAR
