BEGIN:VCALENDAR
PRODID:-//AT Content Types//AT Event//EN
VERSION:1.0
BEGIN:VEVENT
DTSTART:20191114T115000Z
DTEND:20191114T125000Z
DCREATED:20191105T112715Z
UID:ATEvent-75975305cb171cf6e21311e865d82a08
SEQUENCE:0
LAST-MODIFIED:20191107T153110Z
SUMMARY:Midi de la FUCID | Justice fiscale \: Un enjeu planÃ©taire Ã  saisir
DESCRIPTION:Souvent perÃ§ue comme compliquÃ©e Ã  comprendre ou barbant
 e\, la justice fiscale a pourtant une implication Ã©norme dans les inÃ
 ©galitÃ©s mondiales. Eclaircissement et pistes d'actions !
LOCATION:Au sous-sol du Centre social (face Ã  l'Arsenal)\, rue Bruno\, 7
PRIORITY:3
TRANSP:0
END:VEVENT
END:VCALENDAR
