BEGIN:VCALENDAR
PRODID:-//AT Content Types//AT Event//EN
VERSION:1.0
BEGIN:VEVENT
DTSTART:20191107T115000Z
DTEND:20191107T125000Z
DCREATED:20191024T094057Z
UID:ATEvent-728327762d9d5345d41594af23e109b3
SEQUENCE:0
LAST-MODIFIED:20191024T094504Z
SUMMARY:Midi de la FUCID \: Volontourisme\, critiques et alternatives
DESCRIPTION:Malgré les bonnes intentions\, beaucoup de voyages dans l
 es pays dits du Sud  ont plus d'impacts négatifs que positifs pour le
 s populations locales. Quelles alternatives pour voyager "responsable"
  ?
LOCATION:Au sous-sol du Centre social (face à l'Arsenal)\, rue Bruno\, 7
PRIORITY:3
TRANSP:0
END:VEVENT
END:VCALENDAR
