BEGIN:VCALENDAR
PRODID:-//AT Content Types//AT Event//EN
VERSION:1.0
BEGIN:VEVENT
DTSTART:20191031T115000Z
DTEND:20191031T125000Z
DCREATED:20191023T093828Z
UID:ATEvent-8795442e30681659534f58165ed07d36
SEQUENCE:0
LAST-MODIFIED:20191023T121532Z
SUMMARY:Midi de la FUCID \: Bolivie \: Décryptage des élections
DESCRIPTION:Après un suspens pour savoir si le président sortant Evo
  Morales allait obtenir son 4ème mandat\, débriefing des résultats 
 des élections boliviennes !
LOCATION:Au sous-sol du Centre social (face à l'Arsenal)\, rue Bruno\, 7
PRIORITY:3
TRANSP:0
END:VEVENT
END:VCALENDAR
