BEGIN:VCALENDAR
PRODID:-//AT Content Types//AT Event//EN
VERSION:1.0
BEGIN:VEVENT
DTSTART:20191024T105000Z
DTEND:20191024T115000Z
DCREATED:20191016T141753Z
UID:ATEvent-a562e899b62f0cafe62a600c54f9a812
SEQUENCE:0
LAST-MODIFIED:20191017T085743Z
SUMMARY:Midi de la FUCID \: Agroécologie ou agrobusiness
DESCRIPTION:Comment produire notre alimentation de demain ?
LOCATION:Au sous-sol du Centre social (face à l'Arsenal)\, rue Bruno\, 7
PRIORITY:3
TRANSP:0
END:VEVENT
END:VCALENDAR
