BEGIN:VCALENDAR
PRODID:-//AT Content Types//AT Event//EN
VERSION:1.0
BEGIN:VEVENT
DTSTART:20191017T105000Z
DTEND:20191017T115000Z
DCREATED:20191009T091735Z
UID:ATEvent-2ae6772fb3b40e7693c1bda697968560
SEQUENCE:0
LAST-MODIFIED:20191010T075743Z
SUMMARY:Midi de la FUCID \: Le commerce équitable\, un outil d'empowerment des femmes
DESCRIPTION:Dans le cadre de la campagne de la semaine du commerce éq
 uitable du 3 au 17 octobre
LOCATION:Au sous-sol du Centre social (face à l'Arsenal)\, rue Bruno\, 7
PRIORITY:3
TRANSP:0
END:VEVENT
END:VCALENDAR
