BEGIN:VCALENDAR
PRODID:-//AT Content Types//AT Event//EN
VERSION:1.0
BEGIN:VEVENT
DTSTART:20191010T105000Z
DTEND:20191010T115000Z
DCREATED:20191002T095718Z
UID:ATEvent-397336a372e67efbe260395b1e757397
SEQUENCE:0
LAST-MODIFIED:20191003T090413Z
SUMMARY:Midi de la FUCID \: Enjeux de la nouvelle présidence tunisienne
DESCRIPTION:Retour sur le processus électoral bousculé par la mort d
 u président et bilan des enjeux pour le nouveau mandat présidentiel 
 en Tunisie.
LOCATION:Au sous-sol du Centre social (face à l'Arsenal)\, rue Bruno\, 7
PRIORITY:3
TRANSP:0
END:VEVENT
END:VCALENDAR
