BEGIN:VCALENDAR
PRODID:-//AT Content Types//AT Event//EN
VERSION:1.0
BEGIN:VEVENT
DTSTART:20190508T093000Z
DTEND:20190508T120000Z
DCREATED:20190426T075405Z
UID:ATEvent-ec33a9b75712b3ee89a6860922dd0344
SEQUENCE:0
LAST-MODIFIED:20190503T064224Z
SUMMARY:Etats généraux du développement durable et de la transition - INSCRIPTIONS - Programme provisoire
DESCRIPTION:Développement durable et transition\, que fait-on à l’
 UNamur ?\nUne TRENTAINE d’intervenants auront 180 SECONDES pour expl
 iquer leurs actions!
LOCATION:Salle académique - Faculté d’informatique (4e étage)
PRIORITY:3
TRANSP:0
END:VEVENT
END:VCALENDAR
