BEGIN:VCALENDAR
PRODID:-//AT Content Types//AT Event//EN
VERSION:1.0
BEGIN:VEVENT
DTSTART:20170523T063000Z
DTEND:20170523T113000Z
DCREATED:20170428T121509Z
UID:ATEvent-d3f4b688b7b77d75d71ad1060d22f181
SEQUENCE:0
LAST-MODIFIED:20170428T141904Z
SUMMARY:Quelle formation par les sciences humaines durant le tronc commun ?
DESCRIPTION:L’objectif de la journée d’étude est d’éclairer l
 e choix et les modalités de la formule à assigner à la formation pa
 r les sciences humaines durant le tronc commun par une série de contr
 ibutions portant à la fois sur des fondements épistémologiques et d
 idactique.
LOCATION:Amphitéâtre BN01\, Entrée principale\, rez-de-chaussée Rempart de la vierge\, Namur
PRIORITY:3
TRANSP:0
END:VEVENT
END:VCALENDAR
