BEGIN:VCALENDAR
PRODID:-//AT Content Types//AT Event//EN
VERSION:1.0
BEGIN:VEVENT
DTSTART:20170426T160000Z
DTEND:20170426T180000Z
DCREATED:20170331T094013Z
UID:ATEvent-629585b11040b6dff1ca94ff5c7d9fa0
SEQUENCE:0
LAST-MODIFIED:20170403T075914Z
SUMMARY:La protection et la justiciabilitÃ© des droits de l'homme en temps de crise Ã©conomique
DESCRIPTION:Discussion entre Diane Roman\, professeure Ã  l'UniversitÃ
 © FranÃ§ois Rabelais (Tours) et membre de l'Institut universitaire de 
 France et FranÃ§oise Tulkens\, professeure Ã©mÃ©rite de l'UniversitÃ© 
 catholique de Louvain et Ancienne Vice-prÃ©sidente de la Cour europÃ©e
 nne des droits de l'homme.
LOCATION:BibliothÃ¨que (2Ã¨me Ã©tage)\, FacultÃ© de droit\, Rempart de la Vierge 5\, B-5000 Namur
PRIORITY:3
TRANSP:0
END:VEVENT
END:VCALENDAR
