BEGIN:VCALENDAR
PRODID:-//AT Content Types//AT Event//EN
VERSION:1.0
BEGIN:VEVENT
DTSTART:20170330T100000Z
DTEND:20170330T120000Z
DCREATED:20170302T162746Z
UID:ATEvent-d9853989a84314b10a236615e01ce489
SEQUENCE:0
LAST-MODIFIED:20170308T115224Z
SUMMARY:Cyclistes de l'UNamur et amis de la mobilité douce\, c’est le retour du Printemps à vélo !
DESCRIPTION:Dans le cadre de l'opération « Printemps à vélo »\, l
 e Groupe Vélo de l’UNamur invite les étudiants et les membres du p
 ersonnel à célébrer le vélo sur le parvis de la BUMP ! Profitez-en
  pour ressortir votre vélo à l'occasion du retour des beaux jours.
LOCATION:Parvis de la BUMP
PRIORITY:3
TRANSP:0
END:VEVENT
END:VCALENDAR
