BEGIN:VCALENDAR
PRODID:-//AT Content Types//AT Event//EN
VERSION:1.0
BEGIN:VEVENT
DTSTART:20170220T170000Z
DTEND:20170220T190000Z
DCREATED:20170216T095557Z
UID:ATEvent-7b0a2e21d1478f6594b5fc466cae0bc5
SEQUENCE:0
LAST-MODIFIED:20170216T102012Z
SUMMARY:Vulnérabilités familiales et évolutions sociétales
DESCRIPTION:Dans le cadre de la Chaire Francqui internationale attribu
 ée par la Faculté de droit à Diane Roman\, professeure à l’Unive
 rsité François Rabelais (Tours) et membre de l’Institut universita
 ire de France.
LOCATION:Auditoire Pierre Maon\, Faculté de droit\, Rempart de la Vierge 5\, B-5000 Namur
PRIORITY:3
TRANSP:0
END:VEVENT
END:VCALENDAR
