BEGIN:VCALENDAR
PRODID:-//AT Content Types//AT Event//EN
VERSION:1.0
BEGIN:VEVENT
DTSTART:20170424T160000Z
DTEND:20170424T180000Z
DCREATED:20170216T100821Z
UID:ATEvent-2f48abc8502fca754c0f098678988bee
SEQUENCE:0
LAST-MODIFIED:20170216T102119Z
SUMMARY:Protection de la santé et vulnérabilité
DESCRIPTION:Leçon se tenant dans le cadre de la Chaire Francqui inter
 nationale attribuée par la Faculté de droit à Diane Roman\, profess
 eure à l’Université François Rabelais (Tours) et membre de l’In
 stitut universitaire de France.
LOCATION:Auditoire Pierre Maon\, Faculté de droit\, Rempart de la Vierge 5\, B-5000 Namur
PRIORITY:3
TRANSP:0
END:VEVENT
END:VCALENDAR
