BEGIN:VCALENDAR
PRODID:-//AT Content Types//AT Event//EN
VERSION:1.0
BEGIN:VEVENT
DTSTART:20170418T160000Z
DTEND:20170418T180000Z
DCREATED:20170216T100411Z
UID:ATEvent-5543b0fe93fa800914efcf484b6e7cb4
SEQUENCE:0
LAST-MODIFIED:20170216T102226Z
SUMMARY:Systèmes de protection sociale et vulnérabilité
DESCRIPTION:Dans le cadre de la Chaire Francqui internationale attribu
 ée par la Faculté de droit à Diane Roman\, professeure à l’Unive
 rsité François Rabelais (Tours) et membre de l’Institut universita
 ire de France.
LOCATION:Auditoire Pierre Maon\, Faculté de droit\, Rempart de la Vierge 5\, B-5000 Namur
PRIORITY:3
TRANSP:0
END:VEVENT
END:VCALENDAR
