BEGIN:VCALENDAR
PRODID:-//AT Content Types//AT Event//EN
VERSION:1.0
BEGIN:VEVENT
DTSTART:20170508T160000Z
DTEND:20170508T180000Z
DCREATED:20170216T101139Z
UID:ATEvent-11a70477d6bdfddc6e52bec35c54e644
SEQUENCE:0
LAST-MODIFIED:20170507T105921Z
SUMMARY:Accès au droit et à la justice et vulnérabilité
DESCRIPTION:Leçon se tenant dans le cadre de la Chaire Francqui inter
 nationale attribuée par la Faculté de droit à Diane Roman\, profess
 eure à l’Université François Rabelais (Tours) et membre de l’In
 stitut universitaire de France.
LOCATION:Auditoire Pierre Maon\, Faculté de droit\, Rempart de la Vierge 5\, B-5000 Namur
PRIORITY:3
TRANSP:0
END:VEVENT
END:VCALENDAR
