BEGIN:VCALENDAR
PRODID:-//AT Content Types//AT Event//EN
VERSION:1.0
BEGIN:VEVENT
DTSTART:20161117T151500Z
DTEND:20161117T171500Z
DCREATED:20161021T083354Z
UID:ATEvent-bb8d089f59d54c566664d41677a2d2c6
SEQUENCE:0
LAST-MODIFIED:20161026T074946Z
SUMMARY:De la littérature aux archives. Les fragments aux Archives nationales de France
DESCRIPTION:Paolo RINOLDI (Université de Parme) présentera une commu
 nication intitulée "De la littérature aux archives. Les fragments au
 x Archives nationales de France" dans le cadre du cycle annuel de sém
 inaires-conférences organisé par le centre de recherche « Pratiques
  médiévales de l’écrit » (Université de Namur).
LOCATION:Faculté de Philosophie et Lettres\, Séminaire d'Histoire\, L34
PRIORITY:3
TRANSP:0
END:VEVENT
END:VCALENDAR
