BEGIN:VCALENDAR
PRODID:-//AT Content Types//AT Event//EN
VERSION:1.0
BEGIN:VEVENT
DTSTART:20170427T141500Z
DTEND:20170427T161500Z
DCREATED:20161021T093619Z
UID:ATEvent-7f99067098c4c9e1416891c337672874
SEQUENCE:0
LAST-MODIFIED:20161026T075027Z
SUMMARY:Pratique de l’écrit et administration des églises locales à l’époque carolingienne
DESCRIPTION:Charles MÉRIAUX (Université de Lille 3) présentera une 
 communication intitulée "Pratique de l’écrit et administration des
  églises locales à l’époque carolingienne" dans le cadre du cycle
  annuel de séminaires-conférences organisé par le centre de recherc
 he « Pratiques médiévales de l’écrit » (Université de Namur).
LOCATION:Faculté de Philosophie et Lettres\, Séminaire d'Histoire\, L34
PRIORITY:3
TRANSP:0
END:VEVENT
END:VCALENDAR
