BEGIN:VCALENDAR
PRODID:-//AT Content Types//AT Event//EN
VERSION:1.0
BEGIN:VEVENT
DTSTART:20161213T151500Z
DTEND:20161213T171500Z
DCREATED:20161021T092446Z
UID:ATEvent-c259aa77126acc3f823d6f775e5153f4
SEQUENCE:0
LAST-MODIFIED:20161026T075014Z
SUMMARY:Le livre à Liège\, XVe-début XVIe siècle
DESCRIPTION:Renaud ADAM (FNRS-Université de Liège) présentera une c
 ommunication intitulée "Le livre à Liège\, XVe-début XVIe siècle"
  dans le cadre du cycle annuel de séminaires-conférences organisé p
 ar le centre de recherche « Pratiques médiévales de l’écrit » (
 Université de Namur).
LOCATION:Faculté de Philosophie et Lettres\, Séminaire d'Histoire\, L34
PRIORITY:3
TRANSP:0
END:VEVENT
END:VCALENDAR
