BEGIN:VCALENDAR
PRODID:-//AT Content Types//AT Event//EN
VERSION:1.0
BEGIN:VEVENT
DTSTART:20170330T141500Z
DTEND:20170330T161500Z
DCREATED:20161021T093400Z
UID:ATEvent-82a3433151774682c18cd8674b39e2ff
SEQUENCE:0
LAST-MODIFIED:20161026T074925Z
SUMMARY:The role of consent in the formation of marriage in twelfth-century Europe
DESCRIPTION:Elisabeth VAN HOUTS (Université de Cambridge) présentera
  une communication intitulée "The role of consent in the formation of
  marriage in twelfth-century Europe" dans le cadre du cycle annuel de 
 séminaires-conférences organisé par le centre de recherche « Prati
 ques médiévales de l’écrit » (Université de Namur).
LOCATION:Faculté de Philosophie et Lettres\, Séminaire d'Histoire\, L34
PRIORITY:3
TRANSP:0
END:VEVENT
END:VCALENDAR
