BEGIN:VCALENDAR
PRODID:-//AT Content Types//AT Event//EN
VERSION:1.0
BEGIN:VEVENT
DTSTART:20161025T141500Z
DTEND:20161025T161500Z
DCREATED:20161021T082702Z
UID:ATEvent-a49f9521695e8459c52aa03b2b0fbd92
SEQUENCE:0
LAST-MODIFIED:20161021T134104Z
SUMMARY:Le cartulaire dans tous ses états \: réflexions sur le corpus wallon
DESCRIPTION:Nathalie VERPEAUX (Université de Namur) présentera une c
 ommunication intitulée "Le cartulaire dans tous ses états \: réflex
 ions sur le corpus wallon" dans le cadre du cycle annuel de séminaire
 s-conférences organisé par le centre de recherche « Pratiques médi
 évales de l’écrit » (Université de Namur).
LOCATION:Faculté de Philosophie et Lettres\, Séminaire d'Histoire\, L34
PRIORITY:3
TRANSP:0
END:VEVENT
END:VCALENDAR
