BEGIN:VCALENDAR
PRODID:-//AT Content Types//AT Event//EN
VERSION:1.0
BEGIN:VEVENT
DTSTART:20170309T151500Z
DTEND:20170309T171500Z
DCREATED:20161021T093155Z
UID:ATEvent-bad1fc84c4f32e78e0ad5464e678469c
SEQUENCE:0
LAST-MODIFIED:20161026T074905Z
SUMMARY:Les manuscrits Ã©piques de SÃ©es \: nouveaux fragments dÃ©couverts
DESCRIPTION:JÃ©rÃ©my DELMULLE (KULeuven-IRHT-BnF) prÃ©sentera une comm
 unication intitulÃ©e "Les manuscrits Ã©piques de SÃ©es \: nouveaux fra
 gments dÃ©couverts" dans le cadre du cycle annuel de sÃ©minaires-confÃ
 ©rences organisÃ© par le centre de recherche Â« Pratiques mÃ©diÃ©vales
  de lâ€™Ã©crit Â» (UniversitÃ© de Namur).
LOCATION:FacultÃ© de Philosophie et Lettres\, SÃ©minaire d'Histoire\, L34
PRIORITY:3
TRANSP:0
END:VEVENT
END:VCALENDAR
