BEGIN:VCALENDAR
PRODID:-//AT Content Types//AT Event//EN
VERSION:1.0
BEGIN:VEVENT
DTSTART:20170228T151500Z
DTEND:20170228T171500Z
DCREATED:20161021T092955Z
UID:ATEvent-e2f0806169529296196e4ad9f0ed9950
SEQUENCE:0
LAST-MODIFIED:20161026T074957Z
SUMMARY:Des écritures ordinaires aux écritures extraordinaires. La formalisation des écritures de gouvernement\, entre sociolinguistique\, rhétorique et histoire des institutions (XIIIe-XIVe siècles)
DESCRIPTION:Benoît GRÉVIN (CNRS-LAMOP\, Paris) présentera une commu
 nication intitulée "Des écritures ordinaires aux écritures extraord
 inaires. La formalisation des écritures de gouvernement\, entre socio
 linguistique\, rhétorique et histoire des institutions (XIIIe-XIVe si
 ècles)" dans le cadre du cycle annuel de séminaires-conférences org
 anisé par le centre de recherche « Pratiques médiévales de l’éc
 rit » (Université de Namur).
LOCATION:Faculté de Philosophie et Lettres\, Séminaire d'Histoire\, L34
PRIORITY:3
TRANSP:0
END:VEVENT
END:VCALENDAR
