BEGIN:VCALENDAR
PRODID:-//AT Content Types//AT Event//EN
VERSION:1.0
BEGIN:VEVENT
DTSTART:20161028T120000Z
DTEND:20161028T160000Z
DCREATED:20160923T152131Z
UID:ATEvent-4159512c7832af09b416701ad489a845
SEQUENCE:0
LAST-MODIFIED:20160926T110340Z
SUMMARY:"Namur \: pionnière du numérique"
DESCRIPTION:Colloque scientifique du 28 octobre 2016 organisé par et 
 en la Faculté d’informatique de l’Université de Namur en l’hon
 neur de l’inauguration du Computer Museum NAM-IP
LOCATION:I02\, Faculté d'Informatique
PRIORITY:3
TRANSP:0
END:VEVENT
END:VCALENDAR
